BEGIN:VCALENDAR
VERSION:2.0
PRODID:-//wp-events-plugin.com//7.2.3.1//EN
TZID:America/Los_Angeles
X-WR-TIMEZONE:America/Los_Angeles
BEGIN:VEVENT
UID:7438@downsyndromefamilyresourcecenter.org
DTSTART:20210925T023800Z
DTEND:20210925T054500Z
DTSTAMP:20210902T023500Z
URL:https://downsyndromefamilyresourcecenter.org/events/angel-baseball-gam
 e/
SUMMARY:Angel Baseball Game
DESCRIPTION:
CATEGORIES:DSFRC Event
END:VEVENT
END:VCALENDAR