BEGIN:VCALENDAR
VERSION:2.0
PRODID:-//wp-events-plugin.com//7.2.3.1//EN
TZID:America/Los_Angeles
X-WR-TIMEZONE:America/Los_Angeles
BEGIN:VEVENT
UID:7686@downsyndromefamilyresourcecenter.org
DTSTART:20260419T023000Z
DTEND:20260419T050000Z
DTSTAMP:20260316T030811Z
URL:https://downsyndromefamilyresourcecenter.org/events/angels-game-star-w
 ars-night/
SUMMARY:Angels Game Star Wars Night
DESCRIPTION:
CATEGORIES:DSFRC Event
LOCATION:Angel Stadium\, 2000 Gene Autry\, Anaheim\, CA\, Anaheim\, United 
 States
GEO:33.7996617;-117.88343839999999
X-APPLE-STRUCTURED-LOCATION;VALUE=URI;X-ADDRESS=2000 Gene Autry\, Anaheim\,
  CA\, Anaheim\, United States;X-APPLE-RADIUS=100;X-TITLE=Angel Stadium:geo
 :33.7996617,-117.88343839999999
END:VEVENT
END:VCALENDAR