BEGIN:VCALENDAR
VERSION:2.0
PRODID:-//wp-events-plugin.com//7.2.3.1//EN
TZID:America/Los_Angeles
X-WR-TIMEZONE:America/Los_Angeles
BEGIN:VEVENT
UID:7426@downsyndromefamilyresourcecenter.org
DTSTART:20210327T180000Z
DTEND:20210327T191500Z
DTSTAMP:20210306T201537Z
URL:https://downsyndromefamilyresourcecenter.org/events/copies-strategies/
SUMMARY:Coping Strategies via Zoom
DESCRIPTION:
CATEGORIES:DSFRC Event
END:VEVENT
END:VCALENDAR