BEGIN:VCALENDAR
VERSION:2.0
PRODID:-//wp-events-plugin.com//7.2.3.1//EN
TZID:America/Los_Angeles
X-WR-TIMEZONE:America/Los_Angeles
BEGIN:VEVENT
UID:7457@downsyndromefamilyresourcecenter.org
DTSTART:20220727T170000Z
DTEND:20220727T190000Z
DTSTAMP:20220726T013157Z
URL:https://downsyndromefamilyresourcecenter.org/events/house-of-play/
SUMMARY:House of Play
DESCRIPTION:
CATEGORIES:DSFRC Event
LOCATION:House of Play\, 10582 Foothill Blvd\, Rancho Cucamonga\, CA\, 9178
 9\, Riverside\, United States
X-APPLE-STRUCTURED-LOCATION;VALUE=URI;X-ADDRESS=10582 Foothill Blvd\, Ranch
 o Cucamonga\, CA\, 91789\, Riverside\, United States;X-APPLE-RADIUS=100;X-
 TITLE=House of Play:geo:0,0
END:VEVENT
END:VCALENDAR