BEGIN:VCALENDAR
VERSION:2.0
PRODID:-//wp-events-plugin.com//7.2.3.1//EN
TZID:America/Los_Angeles
X-WR-TIMEZONE:America/Los_Angeles
BEGIN:VEVENT
UID:7628@downsyndromefamilyresourcecenter.org
DTSTART:20250823T180000Z
DTEND:20250823T200000Z
DTSTAMP:20250806T094748Z
URL:https://downsyndromefamilyresourcecenter.org/events/little-village-a-p
 lay-place-ages-9-and-under/
SUMMARY:Little Village - A Play Place Ages 9 and under
DESCRIPTION:
CATEGORIES:DSFRC Event
LOCATION:Little Village Play Place\, 272 E 9th St\, Upland \, Ca\, 91786\, 
 United States
X-APPLE-STRUCTURED-LOCATION;VALUE=URI;X-ADDRESS=272 E 9th St\, Upland \, Ca
 \, 91786\, United States;X-APPLE-RADIUS=100;X-TITLE=Little Village Play Pl
 ace:geo:0,0
END:VEVENT
END:VCALENDAR