BEGIN:VCALENDAR
VERSION:2.0
PRODID:-//wp-events-plugin.com//7.2.3.1//EN
TZID:America/Los_Angeles
X-WR-TIMEZONE:America/Los_Angeles
BEGIN:VEVENT
UID:7569@downsyndromefamilyresourcecenter.org
DTSTART:20241031T003000Z
DTEND:20241031T020000Z
DTSTAMP:20241020T144526Z
URL:https://downsyndromefamilyresourcecenter.org/events/martial-arts-class
 /
SUMMARY:Martial Arts Class
DESCRIPTION:
CATEGORIES:DSFRC Event
LOCATION:Chozen Martial Arts\, 670 Arrow Hwy\, La Verne \, Ca\, 91750\, Uni
 ted States
X-APPLE-STRUCTURED-LOCATION;VALUE=URI;X-ADDRESS=670 Arrow Hwy\, La Verne \,
  Ca\, 91750\, United States;X-APPLE-RADIUS=100;X-TITLE=Chozen Martial Arts
 :geo:0,0
END:VEVENT
END:VCALENDAR