BEGIN:VCALENDAR
VERSION:2.0
PRODID:-//wp-events-plugin.com//7.2.3.1//EN
TZID:America/Los_Angeles
X-WR-TIMEZONE:America/Los_Angeles
BEGIN:VEVENT
UID:7629@downsyndromefamilyresourcecenter.org
DTSTART:20250824T190000Z
DTEND:20250824T210000Z
DTSTAMP:20250806T094513Z
URL:https://downsyndromefamilyresourcecenter.org/events/movies-bad-guys-2/
SUMMARY:Movies - Bad Guys 2
DESCRIPTION:
CATEGORIES:DSFRC Event
LOCATION:STARLIGHT CINEMAS\, 10701 Town Center Drive \, Rancho Cucamonga\, 
 CA\, 91730\, United States
X-APPLE-STRUCTURED-LOCATION;VALUE=URI;X-ADDRESS=10701 Town Center Drive \, 
 Rancho Cucamonga\, CA\, 91730\, United States;X-APPLE-RADIUS=100;X-TITLE=S
 TARLIGHT CINEMAS:geo:0,0
END:VEVENT
END:VCALENDAR