BEGIN:VCALENDAR
VERSION:2.0
PRODID:-//wp-events-plugin.com//7.2.3.1//EN
TZID:America/Los_Angeles
X-WR-TIMEZONE:America/Los_Angeles
BEGIN:VEVENT
UID:7639@downsyndromefamilyresourcecenter.org
DTSTART:20251206T200000Z
DTEND:20251206T210000Z
DTSTAMP:20251117T155953Z
URL:https://downsyndromefamilyresourcecenter.org/events/photos-with-santa-
 1200-to-100-time-slot/
SUMMARY:Photos with Santa 12:00 to 1:00 time slot
DESCRIPTION:
CATEGORIES:DSFRC Event
LOCATION:Central Park\, 11200 Base Line Rd\, Rancho Cucamonga\, 11200 Base 
 Line Rd\, Rancho Cucamonga\, California\, United States
GEO:34.122566;-117.560669
X-APPLE-STRUCTURED-LOCATION;VALUE=URI;X-ADDRESS=11200 Base Line Rd\, Rancho
  Cucamonga\, California\, United States;X-APPLE-RADIUS=100;X-TITLE=Central
  Park\, 11200 Base Line Rd\, Rancho Cucamonga:geo:34.122566,-117.560669
END:VEVENT
END:VCALENDAR