BEGIN:VCALENDAR
VERSION:2.0
PRODID:-//wp-events-plugin.com//7.2.3.1//EN
TZID:America/Los_Angeles
X-WR-TIMEZONE:America/Los_Angeles
BEGIN:VEVENT
UID:7581@downsyndromefamilyresourcecenter.org
DTSTART:20250111T030000Z
DTEND:20250111T053000Z
DTSTAMP:20241230T193916Z
URL:https://downsyndromefamilyresourcecenter.org/events/reign-hockey-game-
 90s-night/
SUMMARY:Reign Hockey Game 90’s Night
DESCRIPTION:
CATEGORIES:DSFRC Event
LOCATION:Toyota Arena\, 4000 Ontario Center\, Ontario\, Ca\, 91764\, San Be
 rnardino \, United States
X-APPLE-STRUCTURED-LOCATION;VALUE=URI;X-ADDRESS=4000 Ontario Center\, Ontar
 io\, Ca\, 91764\, San Bernardino \, United States;X-APPLE-RADIUS=100;X-TIT
 LE=Toyota Arena:geo:0,0
END:VEVENT
END:VCALENDAR