BEGIN:VCALENDAR
VERSION:2.0
PRODID:-//wp-events-plugin.com//7.2.3.1//EN
TZID:America/Los_Angeles
X-WR-TIMEZONE:America/Los_Angeles
BEGIN:VEVENT
UID:7585@downsyndromefamilyresourcecenter.org
DTSTART:20250325T020000Z
DTEND:20250325T053000Z
DTSTAMP:20250305T220918Z
URL:https://downsyndromefamilyresourcecenter.org/events/save-the-date-ange
 l-dodger-preseason-sec-202-29-00/
SUMMARY:Angel/Dodger Preseason
DESCRIPTION:
CATEGORIES:DSFRC Event
LOCATION:Angel Stadium\, 2000 Gene Autry\, Anaheim\, CA\, Anaheim\, United 
 States
GEO:33.7996617;-117.88343839999999
X-APPLE-STRUCTURED-LOCATION;VALUE=URI;X-ADDRESS=2000 Gene Autry\, Anaheim\,
  CA\, Anaheim\, United States;X-APPLE-RADIUS=100;X-TITLE=Angel Stadium:geo
 :33.7996617,-117.88343839999999
END:VEVENT
END:VCALENDAR