BEGIN:VCALENDAR
VERSION:2.0
PRODID:-//wp-events-plugin.com//7.2.3.1//EN
TZID:America/Los_Angeles
X-WR-TIMEZONE:America/Los_Angeles
BEGIN:VEVENT
UID:7646@downsyndromefamilyresourcecenter.org
DTSTART:20260823T210000Z
DTEND:20260824T010000Z
DTSTAMP:20251117T025428Z
URL:https://downsyndromefamilyresourcecenter.org/events/save-the-date-cove
 -water-park/
SUMMARY:****Save the Date Cove Water Park
DESCRIPTION:
CATEGORIES:DSFRC Event
END:VEVENT
END:VCALENDAR