BEGIN:VCALENDAR
VERSION:2.0
PRODID:-//wp-events-plugin.com//7.2.3.1//EN
TZID:America/Los_Angeles
X-WR-TIMEZONE:America/Los_Angeles
BEGIN:VEVENT
UID:7608@downsyndromefamilyresourcecenter.org
DTSTART:20250629T020000Z
DTEND:20250629T050000Z
DTSTAMP:20250528T142818Z
URL:https://downsyndromefamilyresourcecenter.org/events/save-the-date-danc
 e-welcome-to-the-jungle/
SUMMARY:“Welcome to the Jungle” Dinner & Dance
DESCRIPTION:
CATEGORIES:DSFRC Event
LOCATION:Central Park\, 11200 Base Line Rd\, Rancho Cucamonga\, 11200 Base 
 Line Rd\, Rancho Cucamonga\, California\, United States
GEO:34.122566;-117.560669
X-APPLE-STRUCTURED-LOCATION;VALUE=URI;X-ADDRESS=11200 Base Line Rd\, Rancho
  Cucamonga\, California\, United States;X-APPLE-RADIUS=100;X-TITLE=Central
  Park\, 11200 Base Line Rd\, Rancho Cucamonga:geo:34.122566,-117.560669
END:VEVENT
END:VCALENDAR