BEGIN:VCALENDAR
VERSION:2.0
PRODID:-//wp-events-plugin.com//7.2.3.1//EN
TZID:America/Los_Angeles
X-WR-TIMEZONE:America/Los_Angeles
BEGIN:VEVENT
UID:7669@downsyndromefamilyresourcecenter.org
DTSTART:20260221T210000Z
DTEND:20260221T230000Z
DTSTAMP:20260204T005735Z
URL:https://downsyndromefamilyresourcecenter.org/events/save-the-date-hamm
 er-and-stain-class-ages-16-and-over/
SUMMARY:*Waitlist* Hammer and Stain class Ages 16 and over
DESCRIPTION:
CATEGORIES:DSFRC Event
LOCATION:Hammer And Stain\, 1270 N San Dimas Canyon Rd\, San Dimas\, Ca\, 9
 1773\, United States
X-APPLE-STRUCTURED-LOCATION;VALUE=URI;X-ADDRESS=1270 N San Dimas Canyon Rd\
 , San Dimas\, Ca\, 91773\, United States;X-APPLE-RADIUS=100;X-TITLE=Hammer
  And Stain:geo:0,0
END:VEVENT
END:VCALENDAR