BEGIN:VCALENDAR
VERSION:2.0
PRODID:-//wp-events-plugin.com//7.2.3.1//EN
TZID:America/Los_Angeles
X-WR-TIMEZONE:America/Los_Angeles
BEGIN:VEVENT
UID:7592@downsyndromefamilyresourcecenter.org
DTSTART:20250316T010000Z
DTEND:20250316T040000Z
DTSTAMP:20250314T124906Z
URL:https://downsyndromefamilyresourcecenter.org/events/save-the-date-spri
 ng-dance/
SUMMARY:All Star Dinner Dance
DESCRIPTION:
CATEGORIES:DSFRC Event
LOCATION:LaVerne Community Center\, 3680 D Street\, LaVerne \, Ca\, 91750\,
  United States
X-APPLE-STRUCTURED-LOCATION;VALUE=URI;X-ADDRESS=3680 D Street\, LaVerne \, 
 Ca\, 91750\, United States;X-APPLE-RADIUS=100;X-TITLE=LaVerne Community Ce
 nter:geo:0,0
END:VEVENT
END:VCALENDAR