BEGIN:VCALENDAR
VERSION:2.0
PRODID:-//wp-events-plugin.com//7.2.3.1//EN
TZID:America/Los_Angeles
X-WR-TIMEZONE:America/Los_Angeles
BEGIN:VEVENT
UID:7698@downsyndromefamilyresourcecenter.org
DTSTART:20260809T020000Z
DTEND:20260809T050000Z
DTSTAMP:20260412T213952Z
URL:https://downsyndromefamilyresourcecenter.org/events/save-the-date-summ
 er-dance/
SUMMARY:*Save The Date* Summer Dance
DESCRIPTION:
CATEGORIES:DSFRC Event
LOCATION:Central Park\, 11200 Base Line Rd\, Rancho Cucamonga\, 11200 Base 
 Line Rd\, Rancho Cucamonga\, California\, United States
GEO:34.122566;-117.560669
X-APPLE-STRUCTURED-LOCATION;VALUE=URI;X-ADDRESS=11200 Base Line Rd\, Rancho
  Cucamonga\, California\, United States;X-APPLE-RADIUS=100;X-TITLE=Central
  Park\, 11200 Base Line Rd\, Rancho Cucamonga:geo:34.122566,-117.560669
END:VEVENT
END:VCALENDAR