BEGIN:VCALENDAR
VERSION:2.0
PRODID:-//wp-events-plugin.com//7.2.3.1//EN
TZID:America/Los_Angeles
X-WR-TIMEZONE:America/Los_Angeles
BEGIN:VEVENT
UID:7616@downsyndromefamilyresourcecenter.org
DTSTART:20250907T210000Z
DTEND:20250908T010000Z
DTSTAMP:20250904T191745Z
URL:https://downsyndromefamilyresourcecenter.org/events/save-the-date-the-
 cove-waterpark-2/
SUMMARY:The Cove Waterpark
DESCRIPTION:
CATEGORIES:DSFRC Event
END:VEVENT
END:VCALENDAR