BEGIN:VCALENDAR
VERSION:2.0
PRODID:-//wp-events-plugin.com//7.2.3.1//EN
TZID:America/Los_Angeles
X-WR-TIMEZONE:America/Los_Angeles
BEGIN:VEVENT
UID:7541@downsyndromefamilyresourcecenter.org
DTSTART:20240824T210000Z
DTEND:20240825T010000Z
DTSTAMP:20240820T004044Z
URL:https://downsyndromefamilyresourcecenter.org/events/save-the-date-the-
 cove-waterpark/
SUMMARY:The Cove Waterpark
DESCRIPTION:
CATEGORIES:DSFRC Event
LOCATION:The Cove Water Park\, 4310 Camino Real\, Riverside\, Ca\, 92509\, 
 Riverside\, United States
X-APPLE-STRUCTURED-LOCATION;VALUE=URI;X-ADDRESS=4310 Camino Real\, Riversid
 e\, Ca\, 92509\, Riverside\, United States;X-APPLE-RADIUS=100;X-TITLE=The 
 Cove Water Park:geo:0,0
END:VEVENT
END:VCALENDAR