BEGIN:VCALENDAR
VERSION:2.0
PRODID:-//wp-events-plugin.com//7.2.3.1//EN
TZID:America/Los_Angeles
X-WR-TIMEZONE:America/Los_Angeles
BEGIN:VEVENT
UID:7634@downsyndromefamilyresourcecenter.org
DTSTART:20251019T013000Z
DTEND:20251019T033000Z
DTSTAMP:20250830T034301Z
URL:https://downsyndromefamilyresourcecenter.org/events/save-the-datebingo
 -at-the-adaptive-athlete/
SUMMARY:***Save The Date***Bingo at The Adaptive Athlete
DESCRIPTION:
CATEGORIES:DSFRC Event
LOCATION:The Adaptive Athlete\, 2028 W. 11th St\, Upland\, CA\, 91786\, Upl
 and\, United States
X-APPLE-STRUCTURED-LOCATION;VALUE=URI;X-ADDRESS=2028 W. 11th St\, Upland\, 
 CA\, 91786\, Upland\, United States;X-APPLE-RADIUS=100;X-TITLE=The Adaptiv
 e Athlete:geo:0,0
END:VEVENT
END:VCALENDAR