BEGIN:VCALENDAR
VERSION:2.0
PRODID:-//wp-events-plugin.com//7.2.3.1//EN
TZID:America/Los_Angeles
X-WR-TIMEZONE:America/Los_Angeles
BEGIN:VEVENT
UID:7611@downsyndromefamilyresourcecenter.org
DTSTART:20250621T180000Z
DTEND:20250621T200000Z
DTSTAMP:20250621T034958Z
URL:https://downsyndromefamilyresourcecenter.org/events/save-the-datesocia
 l-security-overview-presented-by-office-of-clients-rights-and-advocacy/
SUMMARY:Social Security Seminar Presented by Office of Client's Rights and 
 Advocacy
DESCRIPTION:
CATEGORIES:DSFRC Event
LOCATION:The Adaptive Athlete\, 2028 W. 11th St\, Upland\, CA\, 91786\, Upl
 and\, United States
X-APPLE-STRUCTURED-LOCATION;VALUE=URI;X-ADDRESS=2028 W. 11th St\, Upland\, 
 CA\, 91786\, Upland\, United States;X-APPLE-RADIUS=100;X-TITLE=The Adaptiv
 e Athlete:geo:0,0
END:VEVENT
END:VCALENDAR