BEGIN:VCALENDAR
VERSION:2.0
PRODID:-//wp-events-plugin.com//7.2.3.1//EN
TZID:America/Los_Angeles
X-WR-TIMEZONE:America/Los_Angeles
BEGIN:VEVENT
UID:7650@downsyndromefamilyresourcecenter.org
DTSTART:20251213T220000Z
DTEND:20251213T230000Z
DTSTAMP:20251129T155715Z
URL:https://downsyndromefamilyresourcecenter.org/events/sawdust-factory-ag
 es-10-17/
SUMMARY:Sawdust Factory Ages 10-17
DESCRIPTION:
CATEGORIES:DSFRC Event
LOCATION:Sawdust Factory\, 1525 Howard Access Rd STE F\, Upland \, Ca\, 917
 86\, United States
X-APPLE-STRUCTURED-LOCATION;VALUE=URI;X-ADDRESS=1525 Howard Access Rd STE F
 \, Upland \, Ca\, 91786\, United States;X-APPLE-RADIUS=100;X-TITLE=Sawdust
  Factory:geo:0,0
END:VEVENT
END:VCALENDAR