BEGIN:VCALENDAR
VERSION:2.0
PRODID:-//wp-events-plugin.com//7.2.3.1//EN
TZID:America/Los_Angeles
X-WR-TIMEZONE:America/Los_Angeles
BEGIN:VEVENT
UID:7554@downsyndromefamilyresourcecenter.org
DTSTART:20240721T210000Z
DTEND:20240721T230000Z
DTSTAMP:20240704T031351Z
URL:https://downsyndromefamilyresourcecenter.org/events/stencil-paint-clas
 s/
SUMMARY:Stencil & Paint Class
DESCRIPTION:
CATEGORIES:DSFRC Event
LOCATION:Hammer And Stain\, 1270 N San Dimas Canyon Rd\, San Dimas\, Ca\, 9
 1773\, United States
X-APPLE-STRUCTURED-LOCATION;VALUE=URI;X-ADDRESS=1270 N San Dimas Canyon Rd\
 , San Dimas\, Ca\, 91773\, United States;X-APPLE-RADIUS=100;X-TITLE=Hammer
  And Stain:geo:0,0
END:VEVENT
END:VCALENDAR