BEGIN:VCALENDAR
VERSION:2.0
PRODID:-//wp-events-plugin.com//7.2.3.1//EN
TZID:America/Los_Angeles
X-WR-TIMEZONE:America/Los_Angeles
BEGIN:VEVENT
UID:7557@downsyndromefamilyresourcecenter.org
DTSTART;VALUE=DATE:20240817
DTEND;VALUE=DATE:20240818
DTSTAMP:20240815T212425Z
URL:https://downsyndromefamilyresourcecenter.org/events/test-do-not-use/
SUMMARY:Test- do not use
DESCRIPTION:
CATEGORIES:DSFRC Event
END:VEVENT
END:VCALENDAR