BEGIN:VCALENDAR
VERSION:2.0
PRODID:-//wp-events-plugin.com//7.2.3.1//EN
TZID:America/Los_Angeles
X-WR-TIMEZONE:America/Los_Angeles
BEGIN:VEVENT
UID:7600@downsyndromefamilyresourcecenter.org
DTSTART:20250314T210000Z
DTEND:20250314T220000Z
DTSTAMP:20250313T033237Z
URL:https://downsyndromefamilyresourcecenter.org/events/test-event-2/
SUMMARY:Test event
DESCRIPTION:
CATEGORIES:DSFRC Event
END:VEVENT
END:VCALENDAR