BEGIN:VCALENDAR
VERSION:2.0
PRODID:-//wp-events-plugin.com//7.2.3.1//EN
TZID:America/Los_Angeles
X-WR-TIMEZONE:America/Los_Angeles
BEGIN:VEVENT
UID:7657@downsyndromefamilyresourcecenter.org
DTSTART:20260124T181500Z
DTEND:20260124T191500Z
DTSTAMP:20260113T005648Z
URL:https://downsyndromefamilyresourcecenter.org/events/trial-gym-class-ag
 es-18-and-up-1015-1115/
SUMMARY:Trial Gym Class Ages 18 and up 10:15-11:15
DESCRIPTION:I’m
CATEGORIES:DSFRC Event
LOCATION:Savage Fit Club\, 1923 East Avion Dr.\, Ontario\, CA\, 91761\, Uni
 ted States
X-APPLE-STRUCTURED-LOCATION;VALUE=URI;X-ADDRESS=1923 East Avion Dr.\, Ontar
 io\, CA\, 91761\, United States;X-APPLE-RADIUS=100;X-TITLE=Savage Fit Club
 :geo:0,0
END:VEVENT
END:VCALENDAR