BEGIN:VCALENDAR
VERSION:2.0
PRODID:-//wp-events-plugin.com//7.2.3.1//EN
TZID:America/Los_Angeles
X-WR-TIMEZONE:America/Los_Angeles
BEGIN:VEVENT
UID:7658@downsyndromefamilyresourcecenter.org
DTSTART:20260124T193000Z
DTEND:20260124T203000Z
DTSTAMP:20260115T005211Z
URL:https://downsyndromefamilyresourcecenter.org/events/trial-gym-class-ag
 es-18-and-up-1130-1230/
SUMMARY:Trial Gym Class Ages 18 and up 11:30-12:30
DESCRIPTION:
CATEGORIES:DSFRC Event
LOCATION:Savage Fit Club\, 1923 East Avion Dr.\, Ontario\, CA\, 91761\, Uni
 ted States
X-APPLE-STRUCTURED-LOCATION;VALUE=URI;X-ADDRESS=1923 East Avion Dr.\, Ontar
 io\, CA\, 91761\, United States;X-APPLE-RADIUS=100;X-TITLE=Savage Fit Club
 :geo:0,0
END:VEVENT
END:VCALENDAR