BEGIN:VCALENDAR
VERSION:2.0
PRODID:-//wp-events-plugin.com//7.2.3.1//EN
TZID:America/Los_Angeles
X-WR-TIMEZONE:America/Los_Angeles
BEGIN:VEVENT
UID:7623@downsyndromefamilyresourcecenter.org
DTSTART:20250726T014500Z
DTEND:20250726T033000Z
DTSTAMP:20250630T202527Z
URL:https://downsyndromefamilyresourcecenter.org/events/waitlist-cooking-c
 lass-ages-16-up/
SUMMARY:*Waitlist—-Cooking Class Ages 16 & up****
DESCRIPTION:
CATEGORIES:DSFRC Event
LOCATION:Claremont Chefs Academy\, 514 W 1st St\, Claremont \, Ca\, 91711\,
  United States
X-APPLE-STRUCTURED-LOCATION;VALUE=URI;X-ADDRESS=514 W 1st St\, Claremont \,
  Ca\, 91711\, United States;X-APPLE-RADIUS=100;X-TITLE=Claremont Chefs Aca
 demy:geo:0,0
END:VEVENT
END:VCALENDAR