BEGIN:VCALENDAR
VERSION:2.0
PRODID:-//wp-events-plugin.com//7.2.3.1//EN
TZID:America/Los_Angeles
X-WR-TIMEZONE:America/Los_Angeles
BEGIN:VEVENT
UID:7625@downsyndromefamilyresourcecenter.org
DTSTART:20250707T224500Z
DTEND:20250708T000000Z
DTSTAMP:20250630T224440Z
URL:https://downsyndromefamilyresourcecenter.org/events/waitlist-martial-a
 rts-class-ages-16-older/
SUMMARY:Waitlist—Martial Arts Class Ages 16 & older
DESCRIPTION:
CATEGORIES:DSFRC Event
LOCATION:Chozen Martial Arts\, 670 Arrow Hwy\, La Verne \, Ca\, 91750\, Uni
 ted States
X-APPLE-STRUCTURED-LOCATION;VALUE=URI;X-ADDRESS=670 Arrow Hwy\, La Verne \,
  Ca\, 91750\, United States;X-APPLE-RADIUS=100;X-TITLE=Chozen Martial Arts
 :geo:0,0
END:VEVENT
END:VCALENDAR