BEGIN:VCALENDAR
VERSION:2.0
PRODID:-//wp-events-plugin.com//7.2.3.1//EN
TZID:America/Los_Angeles
X-WR-TIMEZONE:America/Los_Angeles
BEGIN:VEVENT
UID:7624@downsyndromefamilyresourcecenter.org
DTSTART:20250713T191500Z
DTEND:20250713T210000Z
DTSTAMP:20250630T191129Z
URL:https://downsyndromefamilyresourcecenter.org/events/waitlist-sawdust-f
 actory-ages-17-up/
SUMMARY:**waitlist—Sawdust Factory Ages 17 & up***
DESCRIPTION:
CATEGORIES:DSFRC Event
LOCATION:Sawdust Factory\, 1525 Howard Access Rd STE F\, Upland \, Ca\, 917
 86\, United States
X-APPLE-STRUCTURED-LOCATION;VALUE=URI;X-ADDRESS=1525 Howard Access Rd STE F
 \, Upland \, Ca\, 91786\, United States;X-APPLE-RADIUS=100;X-TITLE=Sawdust
  Factory:geo:0,0
END:VEVENT
END:VCALENDAR