BEGIN:VCALENDAR
VERSION:2.0
PRODID:-//wp-events-plugin.com//7.2.3.1//EN
TZID:America/Los_Angeles
X-WR-TIMEZONE:America/Los_Angeles
BEGIN:VEVENT
UID:7565@downsyndromefamilyresourcecenter.org
DTSTART:20240922T000000Z
DTEND:20240922T013000Z
DTSTAMP:20240910T145842Z
URL:https://downsyndromefamilyresourcecenter.org/events/waitlistcooking-cl
 ass-ages-13-and-up/
SUMMARY:**waitlist**Cooking Class Ages 13 and up
DESCRIPTION:
CATEGORIES:DSFRC Event
LOCATION:Claremont Chefs Academy\, 514 W 1st St\, Claremont \, Ca\, 91711\,
  United States
X-APPLE-STRUCTURED-LOCATION;VALUE=URI;X-ADDRESS=514 W 1st St\, Claremont \,
  Ca\, 91711\, United States;X-APPLE-RADIUS=100;X-TITLE=Claremont Chefs Aca
 demy:geo:0,0
END:VEVENT
END:VCALENDAR