BEGIN:VCALENDAR
VERSION:2.0
PRODID:-//wp-events-plugin.com//7.2.3.1//EN
TZID:America/Los_Angeles
X-WR-TIMEZONE:America/Los_Angeles
BEGIN:VEVENT
UID:7615@downsyndromefamilyresourcecenter.org
DTSTART:20250628T020000Z
DTEND:20250628T033000Z
DTSTAMP:20250609T184210Z
URL:https://downsyndromefamilyresourcecenter.org/events/waitlistjumping-ja
 cks-ages-16-and-under/
SUMMARY:*Waitlist*Jumping Jacks - ages 16 and under
DESCRIPTION:
CATEGORIES:DSFRC Event
LOCATION:Jumping Jacks\, 186 Village Ct\, San Dimas\, Ca\, 91773\, Los ange
 les\, United States
X-APPLE-STRUCTURED-LOCATION;VALUE=URI;X-ADDRESS=186 Village Ct\, San Dimas\
 , Ca\, 91773\, Los angeles\, United States;X-APPLE-RADIUS=100;X-TITLE=Jump
 ing Jacks:geo:0,0
END:VEVENT
END:VCALENDAR