BEGIN:VCALENDAR
VERSION:2.0
PRODID:-//wp-events-plugin.com//7.2.3.1//EN
TZID:America/Los_Angeles
X-WR-TIMEZONE:America/Los_Angeles
BEGIN:VEVENT
UID:7566@downsyndromefamilyresourcecenter.org
DTSTART:20240922T011500Z
DTEND:20240922T021500Z
DTSTAMP:20240911T170510Z
URL:https://downsyndromefamilyresourcecenter.org/events/waitlistpaint-part
 y-ages-16-and-older/
SUMMARY:**Waitlist**Paint Party Ages 16 and older
DESCRIPTION:
CATEGORIES:DSFRC Event
LOCATION:Studio Claremont\, 522 West 1st Street\, Claremont \, CA\, 91711\,
  San Bernardino \, United States
X-APPLE-STRUCTURED-LOCATION;VALUE=URI;X-ADDRESS=522 West 1st Street\, Clare
 mont \, CA\, 91711\, San Bernardino \, United States;X-APPLE-RADIUS=100;X-
 TITLE=Studio Claremont:geo:0,0
END:VEVENT
END:VCALENDAR