BEGIN:VCALENDAR
VERSION:2.0
PRODID:-//wp-events-plugin.com//7.2.3.1//EN
TZID:America/Los_Angeles
X-WR-TIMEZONE:America/Los_Angeles
BEGIN:VEVENT
UID:7596@downsyndromefamilyresourcecenter.org
DTSTART:20250223T230000Z
DTEND:20250224T000000Z
DTSTAMP:20250208T174442Z
URL:https://downsyndromefamilyresourcecenter.org/events/waitlistyoga-ages-
 12-and-up/
SUMMARY:**waitlist**Yoga Ages 12 and Up
DESCRIPTION:
CATEGORIES:DSFRC Event
LOCATION:Elite Martial Arts Studio\, 1224 W. 9th St.\, \, Upland\, Ca\, Uni
 ted States
X-APPLE-STRUCTURED-LOCATION;VALUE=URI;X-ADDRESS=1224 W. 9th St.\, \, Upland
 \, Ca\, United States;X-APPLE-RADIUS=100;X-TITLE=Elite Martial Arts Studio
 :geo:0,0
END:VEVENT
END:VCALENDAR